BEGIN:VCALENDAR
VERSION:2.0
PRODID:-//Verein der Freunde des Lorettobades E.V. - ECPv6.15.20//NONSGML v1.0//EN
CALSCALE:GREGORIAN
METHOD:PUBLISH
X-WR-CALNAME:Verein der Freunde des Lorettobades E.V.
X-ORIGINAL-URL:https://lorettobad.de
X-WR-CALDESC:Veranstaltungen für Verein der Freunde des Lorettobades E.V.
REFRESH-INTERVAL;VALUE=DURATION:PT1H
X-Robots-Tag:noindex
X-PUBLISHED-TTL:PT1H
BEGIN:VTIMEZONE
TZID:Europe/Berlin
BEGIN:DAYLIGHT
TZOFFSETFROM:+0100
TZOFFSETTO:+0200
TZNAME:CEST
DTSTART:20210328T010000
END:DAYLIGHT
BEGIN:STANDARD
TZOFFSETFROM:+0200
TZOFFSETTO:+0100
TZNAME:CET
DTSTART:20211031T010000
END:STANDARD
BEGIN:DAYLIGHT
TZOFFSETFROM:+0100
TZOFFSETTO:+0200
TZNAME:CEST
DTSTART:20220327T010000
END:DAYLIGHT
BEGIN:STANDARD
TZOFFSETFROM:+0200
TZOFFSETTO:+0100
TZNAME:CET
DTSTART:20221030T010000
END:STANDARD
BEGIN:DAYLIGHT
TZOFFSETFROM:+0100
TZOFFSETTO:+0200
TZNAME:CEST
DTSTART:20230326T010000
END:DAYLIGHT
BEGIN:STANDARD
TZOFFSETFROM:+0200
TZOFFSETTO:+0100
TZNAME:CET
DTSTART:20231029T010000
END:STANDARD
BEGIN:DAYLIGHT
TZOFFSETFROM:+0100
TZOFFSETTO:+0200
TZNAME:CEST
DTSTART:20240331T010000
END:DAYLIGHT
BEGIN:STANDARD
TZOFFSETFROM:+0200
TZOFFSETTO:+0100
TZNAME:CET
DTSTART:20241027T010000
END:STANDARD
BEGIN:DAYLIGHT
TZOFFSETFROM:+0100
TZOFFSETTO:+0200
TZNAME:CEST
DTSTART:20250330T010000
END:DAYLIGHT
BEGIN:STANDARD
TZOFFSETFROM:+0200
TZOFFSETTO:+0100
TZNAME:CET
DTSTART:20251026T010000
END:STANDARD
END:VTIMEZONE
BEGIN:VEVENT
DTSTART;TZID=Europe/Berlin:20240720T200000
DTEND;TZID=Europe/Berlin:20240720T220000
DTSTAMP:20260421T102659
CREATED:20240425T072810Z
LAST-MODIFIED:20240425T072810Z
UID:1282-1721505600-1721512800@lorettobad.de
SUMMARY:Lollo-Sommerkonzert 2024 - Redhouse Hot Six
DESCRIPTION:Die Freude des Lorettobads e.V. laden zum Sommerkonzert 2024 ein. \nAm 20. Juli werden ab 20 Uhr die Redhouse Hot Six mit ihrem berühmten Oldtime-Jazz der 20er & 30er Jahre im Damenbad zu hören sein.
URL:https://lorettobad.de/konzert/lollo-sommerkonzert-2024-redhouse-hot-six/
LOCATION:Lorettobad Freiburg\, Lorettostraße 51a\, Freiburg\, 79100
END:VEVENT
BEGIN:VEVENT
DTSTART;TZID=Europe/Berlin:20230701T120000
DTEND;TZID=Europe/Berlin:20230701T220000
DTSTAMP:20260421T102659
CREATED:20230530T090048Z
LAST-MODIFIED:20230530T090214Z
UID:1234-1688212800-1688248800@lorettobad.de
SUMMARY:"Alle lieben Lollo" - Jubiläumskonzert 30 Jahre Freundeskreis des Lorettobades
DESCRIPTION:Am 1. Juli wird es ein großes halbtägiges Event anlässlich der Jubiläumsfeier zum 30jährigen Bestehen des Vereins geben. \nDas Motto lautet: „Alle lieben Lollo“: \nAb 12 Uhr wird es im Familienbad Unterhaltung für Groß und besonders Klein geben\, u.a. mit einer Super-Wellenrutsche\, einem Eisstand von Scheinpflug-Eis\, vom Annaplatz und einer Aufführung des Chores der Loretto- Grundschule um 14 Uhr. \nAb 20 Uhr wird dann im Damenbad das große Open-Air Jubiläumskonzert mit dem bekannten Wiehremer Songpoet Oliver Scheidies und seiner Kapelle für alle Fälle stattfinden. Das Bio-Weingut Andreas Dilger wird zudem mit einem Weinstand vertreten sein. \nHöhepunkt der Open-Air-Feier wird die Uraufführung des Liedes „Alle lieben Lollo – Die offizielle Lollo-Hymne“ sein\, die eigens von Oliver Scheidies für diesen Anlass komponiert wurde. Damit wird das Lorettobad das einzige Bad Deutschland sein\, das eine eigene Hymne besitzt. \nDer Eintritt am Nachmittag entspricht dem normalen Eintrittspreis für das Familienbad. Der Eintritt zum Konzert ab 19.30 Uhr ist frei\, um großzügige Spenden für den Erhalt und die Verschönerung des Lorettobades wird gebeten.
URL:https://lorettobad.de/konzert/alle-lieben-lollo-jubilaeumskonzert-30-jahre-freundeskreis-des-lorettobades/
ATTACH;FMTTYPE=image/jpeg:https://lorettobad.de/wp-content/uploads/pressefoto_oliverscheidies_alexjung-2-scaled.jpg
END:VEVENT
BEGIN:VEVENT
DTSTART;TZID=Europe/Berlin:20220723T200000
DTEND;TZID=Europe/Berlin:20220723T220000
DTSTAMP:20260421T102659
CREATED:20220527T202843Z
LAST-MODIFIED:20220615T191754Z
UID:1214-1658606400-1658613600@lorettobad.de
SUMMARY:The Uplifters & Block Ice Horn Section
DESCRIPTION:The Uplifters & Block Ice Horn Section sind eine zehnköpfige-Band aus Freiburg.\nKnackige Offbeats\, groovige Beats\, satter Bass und dann eine druckvolle Bläserlinie. Wer bewegungslos an der Bar sitzen wollte\, merkt bald\, dass mindestens der Kopf zu wippen beginnt.\nDie Uplifters sind wieder zu hören zusammen mit der Block Ice Horn Section\, wie sie schon seit eineinhalb Jahrzehnten in Freiburg ihr Musikwesen treiben.\nVom Reggae und Ska ausgehend bis hin zu jazzigen Klängen ist für alle was dabei\, die gerne hören und gerne tanzen.
URL:https://lorettobad.de/konzert/the-uplifters-block-ice-horn-section/
LOCATION:Lorettobad Freiburg\, Lorettostraße 51a\, Freiburg\, 79100
CATEGORIES:Reggae
ATTACH;FMTTYPE=image/jpeg:https://lorettobad.de/wp-content/uploads/Bandfoto2022-scaled.jpg
ORGANIZER;CN="Verein der Freunde des Lorettobades e.V.":MAILTO:freunde@lorettobad.de
END:VEVENT
BEGIN:VEVENT
DTSTART;TZID=Europe/Berlin:20220716T200000
DTEND;TZID=Europe/Berlin:20220716T220000
DTSTAMP:20260421T102659
CREATED:20220527T200235Z
LAST-MODIFIED:20220527T203102Z
UID:1206-1658001600-1658008800@lorettobad.de
SUMMARY:Red House Hot Six
DESCRIPTION:Die REDHOUSE HOT SIX aus Freiburg spielen klassischen Oldtime- und New-Orleans Jazz mit gelegentlichen Ausflügen in die frühe Big-Band-Ära\, schrecken aber auch vor deutschen Schlagern oder französischen Chansons nicht zurück. Schon anlässlich der Gründung 1987 berichtete die Badische Zeitung von „überschäumender Spielfreude und glasklarem Sound“ – daran hat sich bis heute nichts geändert.\nIn den vergangenen Jahrzehnten haben die 7 Musiker auf dem Schlossberg-\, Seenachts oder Weinfest\, auf dem Oberlindenhock oder im Freiburger Jazzhaus gespielt\, waren auf Jazzfestivals in Holland\, Frankreich oder der Schweiz zu hören – und jazzten mit dem Deutschen Botschafter in Shanghai. Man fragt sich\, wieso sie erst jetzt im Lorettobad spielen. Aber besser spät als nie!
URL:https://lorettobad.de/konzert/red-house-hot-six/
LOCATION:Lorettobad Freiburg\, Lorettostraße 51a\, Freiburg\, 79100
CATEGORIES:Jazz
ATTACH;FMTTYPE=image/jpeg:https://lorettobad.de/wp-content/uploads/RedhouseHotSix-2-scaled.jpg
ORGANIZER;CN="Verein der Freunde des Lorettobades e.V.":MAILTO:freunde@lorettobad.de
END:VEVENT
BEGIN:VEVENT
DTSTART;TZID=Europe/Berlin:20220709T200000
DTEND;TZID=Europe/Berlin:20220709T220000
DTSTAMP:20260421T102659
CREATED:20220527T202217Z
LAST-MODIFIED:20220527T202217Z
UID:1211-1657396800-1657404000@lorettobad.de
SUMMARY:Die Flotte Lotte Improtheater
DESCRIPTION:Improvisationstheater ist ein Theaterformat für alle\, die intelligente Unterhaltung\, das Lachen und Staunen lieben. Wie der Name schon vermuten lässt\, gibt es keine einstudierten Texte oder Szenen. Die Schauspieler haben keine Ahnung\, was sie den Abend über zum Besten geben werden. Denn: das entscheidet das Publikum. So ist jede Szene eine überraschende und echte Uraufführung und das Publikum der Regisseur. Auf die Bühne muss deshalb keiner der Zuschauer\, das Zurufen von Stichworten genügt vollkommen.\nDie „Flotte Lotte“ hat schon seit einiger Zeit ihren festen Platz in der Freiburger Impro-Landschaft und jetzt auch zum ersten Mal im Lollo. Splash! Mit der flotten Lotte ins Lorettobad.
URL:https://lorettobad.de/konzert/die-flotte-lotte-improtheater/
LOCATION:Lorettobad Freiburg\, Lorettostraße 51a\, Freiburg\, 79100
CATEGORIES:Theater
ATTACH;FMTTYPE=image/jpeg:https://lorettobad.de/wp-content/uploads/Flotte-Lotte.jpg
ORGANIZER;CN="Verein der Freunde des Lorettobades e.V.":MAILTO:freunde@lorettobad.de
END:VEVENT
BEGIN:VEVENT
DTSTART;TZID=Europe/Berlin:20220623T180000
DTEND;TZID=Europe/Berlin:20220623T180000
DTSTAMP:20260421T102659
CREATED:20220622T063153Z
LAST-MODIFIED:20220622T063504Z
UID:1222-1656007200-1656007200@lorettobad.de
SUMMARY:Finissage - Sic Transit... Ästhetik des Verfalls - Almut Quaas
DESCRIPTION:Group Exhibition by Almut Quaas\, Marta Dyachenko\, Chris Popovic & Thomas Hammelmann \nDie Ausstellung „Sic transit… Ästhetik des Verfalls“ beschäftigt sich mit unterschiedlichen Aspekten von Verfall und reflektiert die Bedeutung von Kunstwerken im Zusammenhang mit dem öffentlichen Raum. \nDie Künstlerin und unser sehr engagiertes Mitglied Frau Almut Quaas untersucht in ihren fotografischen Arbeiten den Verfallsprozess von zwei sich in Freiburg befindenden Plastiken und setzt diese durch ihre künstlerische Bearbeitung in Bezug zu organischen Strukturen und gegenwärtigen Zufallssituationen. Sowohl Wilhelm Eugen Mertens Junge mit einem Zicklein als auch Otto Herbert Hajeks ‚Magnetisches Raumfeld‘ werden so im Sinne des ‚panta rhei‘ (alles fließt) von der Künstlerin in einen zeitgenössischen Bedeutungsrahmen gesetzt. Dabei geht es ihr um eine wertschätzende Betrachtung der vergehenden Kunstwerke\, die durch äußere Einflüsse und situative Begebenheiten immer neue Kontexte erfahren. \nDiese Gruppenausstellung ist Bestandteil des Rahmenprogramms der Ausstellung „70Jahre Kunst am Bau in Deutschland“\, die derzeit im Herderbau gezeigt wird. Sie befasst sich mit der Entwicklung der Kunst am Bau in Deutschland von der Zeit nachdem Zweiten Weltkrieg bis heute und thematisiert die Pflege und den Verlust von künstlerischen Arbeiten im öffentlichen Raum.
URL:https://lorettobad.de/konzert/sic-transit-aesthetik-des-verfalls/
LOCATION:Bismarckallee 18-20\, Bismarckallee 18-20\, Freiburg\, 79098\, Deutschland
ORGANIZER;CN="Delphi_Space":MAILTO:info@delphi-space.com
END:VEVENT
END:VCALENDAR